BEGIN:VCALENDAR
VERSION:2.0
PRODID:-//ngocoa - ECPv6.15.20//NONSGML v1.0//EN
CALSCALE:GREGORIAN
METHOD:PUBLISH
X-WR-CALNAME:ngocoa
X-ORIGINAL-URL:https://ageingcommitteegeneva.org
X-WR-CALDESC:Events for ngocoa
REFRESH-INTERVAL;VALUE=DURATION:PT1H
X-Robots-Tag:noindex
X-PUBLISHED-TTL:PT1H
BEGIN:VTIMEZONE
TZID:Europe/Zurich
BEGIN:DAYLIGHT
TZOFFSETFROM:+0100
TZOFFSETTO:+0200
TZNAME:CEST
DTSTART:20210328T010000
END:DAYLIGHT
BEGIN:STANDARD
TZOFFSETFROM:+0200
TZOFFSETTO:+0100
TZNAME:CET
DTSTART:20211031T010000
END:STANDARD
BEGIN:DAYLIGHT
TZOFFSETFROM:+0100
TZOFFSETTO:+0200
TZNAME:CEST
DTSTART:20220327T010000
END:DAYLIGHT
BEGIN:STANDARD
TZOFFSETFROM:+0200
TZOFFSETTO:+0100
TZNAME:CET
DTSTART:20221030T010000
END:STANDARD
BEGIN:DAYLIGHT
TZOFFSETFROM:+0100
TZOFFSETTO:+0200
TZNAME:CEST
DTSTART:20230326T010000
END:DAYLIGHT
BEGIN:STANDARD
TZOFFSETFROM:+0200
TZOFFSETTO:+0100
TZNAME:CET
DTSTART:20231029T010000
END:STANDARD
END:VTIMEZONE
BEGIN:VEVENT
DTSTART;TZID=Europe/Zurich:20220613T100000
DTEND;TZID=Europe/Zurich:20220708T180000
DTSTAMP:20260422T032629
CREATED:20220602T083336Z
LAST-MODIFIED:20220602T083336Z
UID:29812-1655114400-1657303200@ageingcommitteegeneva.org
SUMMARY:50th regular session of the Human Rights Council
DESCRIPTION:
URL:https://ageingcommitteegeneva.org/event/50th-regular-session-of-the-human-rights-council/
CATEGORIES:Event
END:VEVENT
BEGIN:VEVENT
DTSTART;VALUE=DATE:20220705
DTEND;VALUE=DATE:20220716
DTSTAMP:20260422T032629
CREATED:20220607T201742Z
LAST-MODIFIED:20220607T201742Z
UID:29834-1656979200-1657929599@ageingcommitteegeneva.org
SUMMARY:High-level Political Forum on Sustainable Development (HLPF)
DESCRIPTION:
URL:https://ageingcommitteegeneva.org/event/high-level-political-forum-on-sustainable-development-hlpf/
CATEGORIES:Event
END:VEVENT
END:VCALENDAR